BEGIN:VCALENDAR
VERSION:2.0
PRODID:-//House of Hope Church Leeds//Events Calendar//EN
CALSCALE:GREGORIAN
METHOD:PUBLISH
X-WR-CALNAME:House of Hope Church Leeds Events
X-WR-TIMEZONE:Europe/London
BEGIN:VEVENT
UID:event-2@houseofhopeleeds.org
DTSTAMP:20260420T150812Z
DTSTART;TZID=Europe/London:20260307T103000
DTEND;TZID=Europe/London:20260307T123000
SUMMARY:Official Opening Invitation to 1st Church Service
DESCRIPTION:With gratitude to God\, you are warmly invited to the official opening of our new place of worship.\n\nThis marks an important step in the life of House of Hope Church Leeds\, as we begin a new season of worship\, service\, and outreach in  the community.\n\nParking is available on-site and on the street.  \nThe building has full disabled access.  \nAll are welcome.\n\nYour presence will mean a great deal as we begin this new chapter together..\n\nWe look forward to welcoming you.
LOCATION:Swarcliffe Community Centre   65 Stanks Gardens   Leeds LS14 5LS   West Yorkshire
URL:https://www.houseofhopeleeds.org/events/2
STATUS:CONFIRMED
END:VEVENT
BEGIN:VEVENT
UID:event-1@houseofhopeleeds.org
DTSTAMP:20260420T150812Z
DTSTART;TZID=Europe/London:20260228T103000
DTEND;TZID=Europe/London:20260228T123000
SUMMARY:Saturday Service
DESCRIPTION:Worship with Us this and every Saturday
LOCATION:Swarcliffe Community Centre 65 Stanks Gardens Leeds LS14 5LS
URL:https://www.houseofhopeleeds.org/events/1
STATUS:CONFIRMED
END:VEVENT
END:VCALENDAR
